BEGIN:VCALENDAR
VERSION:2.0
PRODID:-//Chi Garden - ECPv6.15.20//NONSGML v1.0//EN
CALSCALE:GREGORIAN
METHOD:PUBLISH
X-ORIGINAL-URL:https://chigarden.ca
X-WR-CALDESC:Events for Chi Garden
REFRESH-INTERVAL;VALUE=DURATION:PT1H
X-Robots-Tag:noindex
X-PUBLISHED-TTL:PT1H
BEGIN:VTIMEZONE
TZID:America/Toronto
BEGIN:DAYLIGHT
TZOFFSETFROM:-0500
TZOFFSETTO:-0400
TZNAME:EDT
DTSTART:20240310T070000
END:DAYLIGHT
BEGIN:STANDARD
TZOFFSETFROM:-0400
TZOFFSETTO:-0500
TZNAME:EST
DTSTART:20241103T060000
END:STANDARD
BEGIN:DAYLIGHT
TZOFFSETFROM:-0500
TZOFFSETTO:-0400
TZNAME:EDT
DTSTART:20250309T070000
END:DAYLIGHT
BEGIN:STANDARD
TZOFFSETFROM:-0400
TZOFFSETTO:-0500
TZNAME:EST
DTSTART:20251102T060000
END:STANDARD
BEGIN:DAYLIGHT
TZOFFSETFROM:-0500
TZOFFSETTO:-0400
TZNAME:EDT
DTSTART:20260308T070000
END:DAYLIGHT
BEGIN:STANDARD
TZOFFSETFROM:-0400
TZOFFSETTO:-0500
TZNAME:EST
DTSTART:20261101T060000
END:STANDARD
END:VTIMEZONE
BEGIN:VEVENT
DTSTART;TZID=America/Toronto:20250510T100000
DTEND;TZID=America/Toronto:20250510T130000
DTSTAMP:20260423T111419
CREATED:20250429T155524Z
LAST-MODIFIED:20250429T155524Z
UID:5804-1746871200-1746882000@chigarden.ca
SUMMARY:Seedling Saturday
DESCRIPTION:The date for Seedling Saturday at the Just Food Community Farm has been set for May 10\, 2025.  As the name implies\, there will be many seedlings for sale at this free event from a growing list of vendors.  The event will feature both annual vegetable and herb seedlings\, but also food-bearing trees and shrubs (haskaps are flowering in time for this event) and young trees for your yard as well as many other helpful items to kick off your gardening season. \n \n  \n  \n  \n  \n 
URL:https://chigarden.ca/event/seedling-saturday/
LOCATION:Pavalion\, 2391 Pepin Court\, Ottawa\, Ontario\, K1B 4Z3\, Canada
END:VEVENT
END:VCALENDAR